BEGIN:VCALENDAR
VERSION:2.0
PRODID:-//P2CODE project - ECPv6.15.17.1//NONSGML v1.0//EN
CALSCALE:GREGORIAN
METHOD:PUBLISH
X-ORIGINAL-URL:https://p2code-project.eu
X-WR-CALDESC:Events for P2CODE project
REFRESH-INTERVAL;VALUE=DURATION:PT1H
X-Robots-Tag:noindex
X-PUBLISHED-TTL:PT1H
BEGIN:VTIMEZONE
TZID:Europe/Paris
BEGIN:DAYLIGHT
TZOFFSETFROM:+0100
TZOFFSETTO:+0200
TZNAME:CEST
DTSTART:20240331T010000
END:DAYLIGHT
BEGIN:STANDARD
TZOFFSETFROM:+0200
TZOFFSETTO:+0100
TZNAME:CET
DTSTART:20241027T010000
END:STANDARD
BEGIN:DAYLIGHT
TZOFFSETFROM:+0100
TZOFFSETTO:+0200
TZNAME:CEST
DTSTART:20250330T010000
END:DAYLIGHT
BEGIN:STANDARD
TZOFFSETFROM:+0200
TZOFFSETTO:+0100
TZNAME:CET
DTSTART:20251026T010000
END:STANDARD
BEGIN:DAYLIGHT
TZOFFSETFROM:+0100
TZOFFSETTO:+0200
TZNAME:CEST
DTSTART:20260329T010000
END:DAYLIGHT
BEGIN:STANDARD
TZOFFSETFROM:+0200
TZOFFSETTO:+0100
TZNAME:CET
DTSTART:20261025T010000
END:STANDARD
END:VTIMEZONE
BEGIN:VEVENT
DTSTART;VALUE=DATE:20250519
DTEND;VALUE=DATE:20250523
DTSTAMP:20260420T063729
CREATED:20250127T131220Z
LAST-MODIFIED:20250127T131220Z
UID:10000017-1747612800-1747958399@p2code-project.eu
SUMMARY:The 25th IEEE international Symposium on Cluster\, Cloud and Internet Computing
DESCRIPTION:The IEEE International Symposium on Cluster\, Cloud\, and Internet Computing is a leading forum for disseminating and discussing research activities\, resulting in a broad range of topics in distributed systems. Topics of interest range from computing Clusters to widely distributed clouds and Internet computing paradigms (like fog/edge computing for Internet of Things (IoT))\, applied to societal challenges (like sustainability\, security and AI). The conference features keynotes\, technical presentations\, posters\, workshops\, the SCALE challenge featuring live demonstrations and collocates the ICFEC conference.
URL:https://p2code-project.eu/event/the-25th-ieee-international-symposium-on-cluster-cloud-and-internet-computing/
LOCATION:Tromsø\, Tromsø\, Norway
ATTACH;FMTTYPE=image/png:https://p2code-project.eu/wp-content/uploads/2025/01/Screenshot-2025-01-27-at-14.10.43.png
END:VEVENT
END:VCALENDAR