BEGIN:VCALENDAR
VERSION:2.0
PRODID:-//P2CODE project - ECPv6.15.17.1//NONSGML v1.0//EN
CALSCALE:GREGORIAN
METHOD:PUBLISH
X-ORIGINAL-URL:https://p2code-project.eu
X-WR-CALDESC:Events for P2CODE project
REFRESH-INTERVAL;VALUE=DURATION:PT1H
X-Robots-Tag:noindex
X-PUBLISHED-TTL:PT1H
BEGIN:VTIMEZONE
TZID:Europe/Paris
BEGIN:DAYLIGHT
TZOFFSETFROM:+0100
TZOFFSETTO:+0200
TZNAME:CEST
DTSTART:20240331T010000
END:DAYLIGHT
BEGIN:STANDARD
TZOFFSETFROM:+0200
TZOFFSETTO:+0100
TZNAME:CET
DTSTART:20241027T010000
END:STANDARD
BEGIN:DAYLIGHT
TZOFFSETFROM:+0100
TZOFFSETTO:+0200
TZNAME:CEST
DTSTART:20250330T010000
END:DAYLIGHT
BEGIN:STANDARD
TZOFFSETFROM:+0200
TZOFFSETTO:+0100
TZNAME:CET
DTSTART:20251026T010000
END:STANDARD
BEGIN:DAYLIGHT
TZOFFSETFROM:+0100
TZOFFSETTO:+0200
TZNAME:CEST
DTSTART:20260329T010000
END:DAYLIGHT
BEGIN:STANDARD
TZOFFSETFROM:+0200
TZOFFSETTO:+0100
TZNAME:CET
DTSTART:20261025T010000
END:STANDARD
END:VTIMEZONE
BEGIN:VEVENT
DTSTART;VALUE=DATE:20250924
DTEND;VALUE=DATE:20250926
DTSTAMP:20260419T194904
CREATED:20250127T150444Z
LAST-MODIFIED:20250127T150444Z
UID:10000023-1758672000-1758844799@p2code-project.eu
SUMMARY:IoT Tech Expo Europe
DESCRIPTION:About the IoT Tech Expo\nJoin us again in 2025 to hear from leading industry experts and discover key strategies in the world of IoT. Taking place in Amsterdam\, this is a technology event and conference for the ambitious enterprise technology professional\, seeking to explore the latest innovations\, implementations and strategies to drive businesses forward. \nClick here to register your interest for the 2025 edition.
URL:https://p2code-project.eu/event/iot-tech-expo-europe/
LOCATION:RAI\, Amsterdam\, Netherlands
ATTACH;FMTTYPE=image/png:https://p2code-project.eu/wp-content/uploads/2025/01/edge-computing-expo2-1536x926-1.png
END:VEVENT
BEGIN:VEVENT
DTSTART;VALUE=DATE:20250924
DTEND;VALUE=DATE:20250926
DTSTAMP:20260419T194904
CREATED:20250127T150227Z
LAST-MODIFIED:20250127T150227Z
UID:10000022-1758672000-1758844799@p2code-project.eu
SUMMARY:Edge Computing Expo Europe
DESCRIPTION:About the Edge Computing Event & Conference\nIn a world where speed\, connectivity and real-time access to data have become a way of life\, edge computing has fast become an essential component of virtually every business’s IT strategy. For forward-thinking and dynamic enterprises\, edge computing can enable a significant increase in operational efficiency and automation\, while dramatically reducing latency. Join us in October 2024 to learn more! \nThis conference is part of TechEx which consists of 7 other co-located events exploring Digital Transformation\, IoT\, AI & Big Data\, Cybersecurity & Cloud\, Data Centres\, Intelligent Automation\, and Unified Communications\, so you can learn a variety of key enterprise technology solutions all in one place.
URL:https://p2code-project.eu/event/edge-computing-expo-europe/
LOCATION:RAI\, Amsterdam\, Netherlands
ATTACH;FMTTYPE=image/png:https://p2code-project.eu/wp-content/uploads/2025/01/edge-computing-expo2-1536x926-1.png
END:VEVENT
END:VCALENDAR