BEGIN:VCALENDAR
VERSION:2.0
PRODID:-//P2CODE project - ECPv6.15.17.1//NONSGML v1.0//EN
CALSCALE:GREGORIAN
METHOD:PUBLISH
X-WR-CALNAME:P2CODE project
X-ORIGINAL-URL:https://p2code-project.eu
X-WR-CALDESC:Events for P2CODE project
REFRESH-INTERVAL;VALUE=DURATION:PT1H
X-Robots-Tag:noindex
X-PUBLISHED-TTL:PT1H
BEGIN:VTIMEZONE
TZID:Europe/Paris
BEGIN:DAYLIGHT
TZOFFSETFROM:+0100
TZOFFSETTO:+0200
TZNAME:CEST
DTSTART:20240331T010000
END:DAYLIGHT
BEGIN:STANDARD
TZOFFSETFROM:+0200
TZOFFSETTO:+0100
TZNAME:CET
DTSTART:20241027T010000
END:STANDARD
BEGIN:DAYLIGHT
TZOFFSETFROM:+0100
TZOFFSETTO:+0200
TZNAME:CEST
DTSTART:20250330T010000
END:DAYLIGHT
BEGIN:STANDARD
TZOFFSETFROM:+0200
TZOFFSETTO:+0100
TZNAME:CET
DTSTART:20251026T010000
END:STANDARD
BEGIN:DAYLIGHT
TZOFFSETFROM:+0100
TZOFFSETTO:+0200
TZNAME:CEST
DTSTART:20260329T010000
END:DAYLIGHT
BEGIN:STANDARD
TZOFFSETFROM:+0200
TZOFFSETTO:+0100
TZNAME:CET
DTSTART:20261025T010000
END:STANDARD
END:VTIMEZONE
BEGIN:VEVENT
DTSTART;VALUE=DATE:20250519
DTEND;VALUE=DATE:20250523
DTSTAMP:20260420T031123
CREATED:20250127T143320Z
LAST-MODIFIED:20250127T143320Z
UID:10000018-1747612800-1747958399@p2code-project.eu
SUMMARY:IEEE International Conference on Computer Communications
DESCRIPTION:IEEE INFOCOM is a top-ranked conference on networking in the research community. It is a major conference venue for researchers to present and exchange significant and innovative contributions and ideas in the field of networking and closely related areas. IEEE INFOCOM covers both theoretical and systems research. For INFOCOM 2025\, the conference includes a main technical program\, a number of workshops\, a keynote speech\, panels\, a student poster session\, and demo/poster sessions.
URL:https://p2code-project.eu/event/ieee-international-conference-on-computer-communications/
LOCATION:London\, London\, United Kingdom
ATTACH;FMTTYPE=image/png:https://p2code-project.eu/wp-content/uploads/2025/01/Position-1_InfoComm22-Banners_Location_London-UK_v5_06-01-21_KP-1100x291-Tower-Bridge.png
END:VEVENT
END:VCALENDAR